BEGIN:VCALENDAR
VERSION:2.0
PRODID:-//Atholton News - ECPv6.15.20//NONSGML v1.0//EN
CALSCALE:GREGORIAN
METHOD:PUBLISH
X-WR-CALNAME:Atholton News
X-ORIGINAL-URL:https://atholtonnews.com
X-WR-CALDESC:Events for Atholton News
REFRESH-INTERVAL;VALUE=DURATION:PT1H
X-Robots-Tag:noindex
X-PUBLISHED-TTL:PT1H
BEGIN:VTIMEZONE
TZID:UTC
BEGIN:STANDARD
TZOFFSETFROM:+0000
TZOFFSETTO:+0000
TZNAME:UTC
DTSTART:20250101T000000
END:STANDARD
END:VTIMEZONE
BEGIN:VEVENT
DTSTART;TZID=UTC:20260421T200000
DTEND;TZID=UTC:20260421T200000
DTSTAMP:20260421T113050
CREATED:20260402T085911Z
LAST-MODIFIED:20260402T090102Z
UID:5109-1776801600-1776801600@atholtonnews.com
SUMMARY:Johnson & Wales University-Providence [In-person Visit]
DESCRIPTION:Discretion \nJohnson & Wales University – Providence [In-person Visit] gives students the opportunity to explore Johnson & Wales University in Providence. During the visit\, students learn about academic programs\, campus life\, and admissions. The experience helps them understand college opportunities and plan their future education and career paths. \n\nWhen\n\nTue\, Apr 21 2026\, 10:30 – 10:50am\n\n\nRepresentative\nJamie JacksonOffice Phone\n2404980054 \nEmail\njjackson@jwu.edu \nDate\nTuesday\, April 21\, 2026 \nTime\n10:30 AM-10:50 AM EDT \nCollege\nJohnson & Wales University-Providence \nInternal Notes \n\n\nCalendar\nExported RepVisits Calendar for Atholton High School
URL:https://atholtonnews.com/event/johnson-wales-university-providence-in-person-visit/
END:VEVENT
END:VCALENDAR