BEGIN:VCALENDAR
VERSION:2.0
PRODID:-//Atholton News - ECPv6.15.20//NONSGML v1.0//EN
CALSCALE:GREGORIAN
METHOD:PUBLISH
X-WR-CALNAME:Atholton News
X-ORIGINAL-URL:https://atholtonnews.com
X-WR-CALDESC:Events for Atholton News
REFRESH-INTERVAL;VALUE=DURATION:PT1H
X-Robots-Tag:noindex
X-PUBLISHED-TTL:PT1H
BEGIN:VTIMEZONE
TZID:UTC
BEGIN:STANDARD
TZOFFSETFROM:+0000
TZOFFSETTO:+0000
TZNAME:UTC
DTSTART:20250101T000000
END:STANDARD
END:VTIMEZONE
BEGIN:VEVENT
DTSTART;TZID=UTC:20260422T001500
DTEND;TZID=UTC:20260422T001500
DTSTAMP:20260422T031758
CREATED:20260402T090637Z
LAST-MODIFIED:20260402T090637Z
UID:5116-1776816900-1776816900@atholtonnews.com
SUMMARY:JROTC Archery
DESCRIPTION:Discretion \nJROTC Archery is a structured training activity within the Junior Reserve Officers’ Training Corps where students practice archery skills and discipline. Participants learn focus\, safety\, and precision while improving coordination. The program also encourages leadership\, responsibility\, and teamwork in a supportive and competitive environment. \n\n\n\n\n\n\nWhen\n\nTue\, Sep 2 2025\, 2:45 – 4:15pm\nTue\, Sep 9 2025\, 2:45 – 4:15pm\nTue\, Sep 16 2025\, 2:45 – 4:15pm\nTue\, Sep 23 2025\, 2:45 – 4:15pm\nTue\, Sep 30 2025\, 2:45 – 4:15pm\nTue\, Oct 7 2025\, 2:45 – 4:15pm\nTue\, Oct 14 2025\, 2:45 – 4:15pm\nTue\, Oct 21 2025\, 2:45 – 4:15pm\nTue\, Oct 28 2025\, 2:45 – 4:15pm\nTue\, Nov 4 2025\, 2:45 – 4:15pm\nTue\, Nov 11 2025\, 2:45 – 4:15pm\nTue\, Nov 18 2025\, 2:45 – 4:15pm\nTue\, Nov 25 2025\, 2:45 – 4:15pm\nTue\, Dec 2 2025\, 2:45 – 4:15pm\nTue\, Dec 9 2025\, 2:45 – 4:15pm\nTue\, Dec 16 2025\, 2:45 – 4:15pm\nTue\, Dec 23 2025\, 2:45 – 4:15pm\nTue\, Dec 30 2025\, 2:45 – 4:15pm\nTue\, Jan 6 2026\, 2:45 – 4:15pm\nTue\, Jan 13 2026\, 2:45 – 4:15pm\nTue\, Jan 20 2026\, 2:45 – 4:15pm\nTue\, Jan 27 2026\, 2:45 – 4:15pm\nTue\, Feb 3 2026\, 2:45 – 4:15pm\nTue\, Feb 10 2026\, 2:45 – 4:15pm\nTue\, Feb 17 2026\, 2:45 – 4:15pm\nTue\, Feb 24 2026\, 2:45 – 4:15pm\nTue\, Mar 3 2026\, 2:45 – 4:15pm\nTue\, Mar 10 2026\, 2:45 – 4:15pm\nTue\, Mar 17 2026\, 2:45 – 4:15pm\nTue\, Mar 24 2026\, 2:45 – 4:15pm\nTue\, Mar 31 2026\, 2:45 – 4:15pm\nTue\, Apr 7 2026\, 2:45 – 4:15pm\nTue\, Apr 14 2026\, 2:45 – 4:15pm\nTue\, Apr 21 2026\, 2:45 – 4:15pm\nTue\, Apr 28 2026\, 2:45 – 4:15pm\nTue\, May 5 2026\, 2:45 – 4:15pm\nTue\, May 12 2026\, 2:45 – 4:15pm\nTue\, May 19 2026\, 2:45 – 4:15pm\n\n\n\n\nCalendar\nAHS Activities
URL:https://atholtonnews.com/event/jrotc-archery-10/
END:VEVENT
BEGIN:VEVENT
DTSTART;TZID=UTC:20260422T050000
DTEND;TZID=UTC:20260422T050000
DTSTAMP:20260422T031758
CREATED:20260402T092350Z
LAST-MODIFIED:20260402T092434Z
UID:5127-1776834000-1776834000@atholtonnews.com
SUMMARY:Atholton PTSA Meeting
DESCRIPTION:Discretion \nThe Atholton PTSA Meeting brings together parents\, teachers\, and school staff to discuss important school activities\, student programs\, and community initiatives. Organized by the Atholton High School PTSA\, the meeting encourages collaboration\, supports student success\, and helps strengthen communication between families and the school community. \n\n\n\n\n\n\nWhen\n\nTue\, Sep 16 2025\, 7:30 – 8:45pm\nTue\, Oct 21 2025\, 7:30 – 8:45pm\nTue\, Nov 18 2025\, 7:30 – 8:45pm\nTue\, Dec 16 2025\, 7:30 – 8:45pm\nTue\, Jan 20 2026\, 7:30 – 8:45pm\nTue\, Feb 17 2026\, 7:30 – 8:45pm\nTue\, Mar 17 2026\, 7:30 – 8:45pm\nTue\, Apr 21 2026\, 7:30 – 8:45pm\nTue\, May 19 2026\, 7:30 – 8:45pm\nTue\, Jun 16 2026\, 7:30 – 8:45pm\nTue\, Jul 21 2026\, 7:30 – 8:45pm\nTue\, Aug 18 2026\, 7:30 – 8:45pm\nTue\, Sep 15 2026\, 7:30 – 8:45pm\nTue\, Oct 20 2026\, 7:30 – 8:45pm\nTue\, Nov 17 2026\, 7:30 – 8:45pm\nTue\, Dec 15 2026\, 7:30 – 8:45pm\nTue\, Jan 19 2027\, 7:30 – 8:45pm\nTue\, Feb 16 2027\, 7:30 – 8:45pm\nTue\, Mar 16 2027\, 7:30 – 8:45pm\n\n\n\nCalendar\natholtoncommunitycalendar@gmail.com
URL:https://atholtonnews.com/event/atholton-ptsa-meeting/
END:VEVENT
BEGIN:VEVENT
DTSTART;TZID=UTC:20260422T070000
DTEND;TZID=UTC:20260422T220000
DTSTAMP:20260422T031758
CREATED:20260402T092703Z
LAST-MODIFIED:20260402T092703Z
UID:5129-1776841200-1776895200@atholtonnews.com
SUMMARY:Photo to NYC (Brenfleck; 63698)
DESCRIPTION:Photo to NYC (Brenfleck; 63698) \n\nWhen\n\nWed\, Apr 22 2026\, 7am – 10pm\n\n\n\nCalendar\nAHS Field Trips\n\n 
URL:https://atholtonnews.com/event/photo-to-nyc-brenfleck-63698/
END:VEVENT
BEGIN:VEVENT
DTSTART;TZID=UTC:20260422T092500
DTEND;TZID=UTC:20260422T095500
DTSTAMP:20260422T031758
CREATED:20260402T093022Z
LAST-MODIFIED:20260402T093022Z
UID:5132-1776849900-1776851700@atholtonnews.com
SUMMARY:Raidertime: Academic Intervention
DESCRIPTION:Discretion \nRaidertime: Academic Intervention is a dedicated period where students receive extra academic support and guidance. Teachers help students improve their understanding of subjects\, complete assignments\, and strengthen study skills. The session encourages responsibility\, academic progress\, and confidence\, ensuring students have the support they need to succeed in their learning journey. \n\nWhen\n\nWed\, Apr 22 2026\, 9:25 – 9:55am\n\n\n\n\nCalendar\nAHS School Day Events
URL:https://atholtonnews.com/event/raidertime-academic-intervention/
END:VEVENT
BEGIN:VEVENT
DTSTART;TZID=UTC:20260422T100000
DTEND;TZID=UTC:20260422T190000
DTSTAMP:20260422T031758
CREATED:20260402T093251Z
LAST-MODIFIED:20260402T093251Z
UID:5134-1776852000-1776884400@atholtonnews.com
SUMMARY:Mod pizza: SGA Class of 2029
DESCRIPTION:Discretion \nMOD Pizza: SGA Class of 2029 is a fundraising event organized by the Student Government Association to support activities for the Class of 2029. Hosted at MOD Pizza\, the event encourages community participation while raising funds for student programs and school events. \n\nWhen\n\nWed\, Apr 22 2026\, 10am – 7pm\n\n\n\n\nCalendar\nAHS Fundraising
URL:https://atholtonnews.com/event/mod-pizza-sga-class-of-2029/
END:VEVENT
BEGIN:VEVENT
DTSTART;TZID=UTC:20260422T160000
DTEND;TZID=UTC:20260422T170000
DTSTAMP:20260422T031758
CREATED:20260402T091123Z
LAST-MODIFIED:20260402T091123Z
UID:5122-1776873600-1776877200@atholtonnews.com
SUMMARY:Boys Lacrosse @ Wilde Lake
DESCRIPTION:Boys Lacrosse @ Wilde Lake is an away game where the team competes against Wilde Lake High School. Players showcase their athletic skills\, teamwork\, and game strategy throughout the match. The event promotes sportsmanship\, school pride\, and valuable competitive experience for student-athletes. \n\n\n\n\n\n\nWhen\n\nTue\, Apr 21 2026\, 4 – 5pm\n\n\n–\n\nCalendar\nAHS Athletics
URL:https://atholtonnews.com/event/boys-lacrosse-wilde-lake/
END:VEVENT
BEGIN:VEVENT
DTSTART;TZID=UTC:20260422T160000
DTEND;TZID=UTC:20260422T170000
DTSTAMP:20260422T031758
CREATED:20260402T092106Z
LAST-MODIFIED:20260402T092106Z
UID:5125-1776873600-1776877200@atholtonnews.com
SUMMARY:Girls Lacrosse v Wilde Lake
DESCRIPTION:Discretion \nGirls Lacrosse v Wilde Lake is a competitive match where the team plays against Wilde Lake High School. Players demonstrate teamwork\, strategy\, and athletic ability throughout the game. The event encourages sportsmanship\, school pride\, and supports the development of confidence and skills among student-athletes. \n\n\n\n\n\n\nWhen\n\nTue\, Apr 21 2026\, 4 – 5pm\n\n\n–\n\nCalendar\nAHS Athletics
URL:https://atholtonnews.com/event/girls-lacrosse-v-wilde-lake/
END:VEVENT
END:VCALENDAR