BEGIN:VCALENDAR
VERSION:2.0
PRODID:-//Atholton News - ECPv6.15.20//NONSGML v1.0//EN
CALSCALE:GREGORIAN
METHOD:PUBLISH
X-WR-CALNAME:Atholton News
X-ORIGINAL-URL:https://atholtonnews.com
X-WR-CALDESC:Events for Atholton News
REFRESH-INTERVAL;VALUE=DURATION:PT1H
X-Robots-Tag:noindex
X-PUBLISHED-TTL:PT1H
BEGIN:VTIMEZONE
TZID:UTC
BEGIN:STANDARD
TZOFFSETFROM:+0000
TZOFFSETTO:+0000
TZNAME:UTC
DTSTART:20250101T000000
END:STANDARD
END:VTIMEZONE
BEGIN:VEVENT
DTSTART;TZID=UTC:20260425T010000
DTEND;TZID=UTC:20260425T010000
DTSTAMP:20260425T023640
CREATED:20260403T064107Z
LAST-MODIFIED:20260403T064107Z
UID:5225-1777078800-1777078800@atholtonnews.com
SUMMARY:Tennis v Long Reach
DESCRIPTION:Discretion \n\n\n\n\n\n\n\n\nTennis v Long Reach features an exciting matchup where the tennis team competes against Long Reach. Players demonstrate skill\, strategy\, and sportsmanship while representing their school on the court. Fans can look forward to competitive rallies\, strong serves\, and an energetic atmosphere as both teams battle for victory. 🎾 \n\n\n\n\n\n\nWhen\n\nFri\, Apr 24 2026\, 3:30 – 4:30pm\n\n\n–\n\nCalendar\nAHS Athletics
URL:https://atholtonnews.com/event/tennis-v-long-reach/
END:VEVENT
BEGIN:VEVENT
DTSTART;TZID=UTC:20260425T014500
DTEND;TZID=UTC:20260425T014500
DTSTAMP:20260425T023640
CREATED:20260403T064304Z
LAST-MODIFIED:20260403T064304Z
UID:5227-1777081500-1777081500@atholtonnews.com
SUMMARY:JV Baseball @ Long Reach
DESCRIPTION:Discretion \n\n\n\n\n\n\n\n\nJV Baseball @ Long Reach features the junior varsity baseball team traveling to face Long Reach in an exciting matchup. Players showcase their developing skills\, teamwork\, and determination on the field while gaining valuable game experience. Fans can expect competitive innings\, strong pitching\, and energetic plays throughout the game. ⚾🔥 \n\nWhen\n\nFri\, Apr 24 2026\, 4:15 – 5:15pm\n\n\n–\n\nCalendar\nAHS Athletics
URL:https://atholtonnews.com/event/jv-baseball-long-reach/
END:VEVENT
BEGIN:VEVENT
DTSTART;TZID=UTC:20260425T014500
DTEND;TZID=UTC:20260425T014500
DTSTAMP:20260425T023640
CREATED:20260403T064459Z
LAST-MODIFIED:20260403T064459Z
UID:5229-1777081500-1777081500@atholtonnews.com
SUMMARY:JV Softball @ Long Reach
DESCRIPTION:Discretion \n\n\n\n\n\n\n\n\nJV Softball @ Long Reach features the junior varsity softball team competing on the road against Long Reach. The game highlights developing talent\, teamwork\, and determination as players gain valuable experience on the field. Fans can enjoy exciting plays\, strong pitching\, and competitive innings in this spirited matchup. 🥎🔥 \n\n\n\n\n\n\nWhen\n\nFri\, Apr 24 2026\, 4:15 – 5:15pm\n\n\n–\n\nCalendar\nAHS Athletics
URL:https://atholtonnews.com/event/jv-softball-long-reach/
END:VEVENT
BEGIN:VEVENT
DTSTART;TZID=UTC:20260425T014500
DTEND;TZID=UTC:20260425T014500
DTSTAMP:20260425T023640
CREATED:20260403T064626Z
LAST-MODIFIED:20260403T064626Z
UID:5232-1777081500-1777081500@atholtonnews.com
SUMMARY:Varsity Baseball v Long Reach
DESCRIPTION:Discretion \n\n\n\n\n\n\n\n\nVarsity Baseball v Long Reach features an exciting varsity-level baseball matchup against Long Reach. The team showcases advanced skills\, strategy\, and strong teamwork while competing for victory. Fans can expect thrilling plays\, powerful hits\, and competitive innings as both teams bring energy and determination to the field. ⚾🔥 \n\n\n\n\n\n\nWhen\n\nFri\, Apr 24 2026\, 4:15 – 5:15pm\n\n\n–\n\nCalendar\nAHS Athletics
URL:https://atholtonnews.com/event/varsity-baseball-v-long-reach/
END:VEVENT
BEGIN:VEVENT
DTSTART;TZID=UTC:20260425T014500
DTEND;TZID=UTC:20260425T014500
DTSTAMP:20260425T023640
CREATED:20260403T064751Z
LAST-MODIFIED:20260403T064751Z
UID:5236-1777081500-1777081500@atholtonnews.com
SUMMARY:Varsity Softball v Long Reach
DESCRIPTION:Discretion \n\n\n\n\n\n\n\n\nVarsity Softball v Long Reach features a competitive varsity softball matchup where the team takes on Long Reach. Players display strong teamwork\, advanced skills\, and determination throughout the game. Fans can enjoy exciting hits\, solid defense\, and intense innings as both teams compete for victory on the field. 🥎🔥 \n\n\n\n\n\n\nWhen\n\nFri\, Apr 24 2026\, 4:15 – 5:15pm\n\n\n–\n\nCalendar\nAHS Athletics
URL:https://atholtonnews.com/event/varsity-softball-v-long-reach/
END:VEVENT
BEGIN:VEVENT
DTSTART;TZID=UTC:20260425T023000
DTEND;TZID=UTC:20260425T023000
DTSTAMP:20260425T023640
CREATED:20260403T064933Z
LAST-MODIFIED:20260403T064933Z
UID:5238-1777084200-1777084200@atholtonnews.com
SUMMARY:Guitar Concert
DESCRIPTION:Discretion \n\n\n\n\n\n\n\n\nGuitar Concert is a musical event where talented performers showcase their skills through a variety of guitar pieces. The concert may feature solo and group performances across different styles\, creating an enjoyable experience for the audience while celebrating creativity\, rhythm\, and the art of guitar music. 🎸✨ \n\n\n\n\n\n\nWhen\n\nFri\, Apr 24 2026\, 5 – 9pm\n\n\n\n\nCalendar\nAHS Activities
URL:https://atholtonnews.com/event/guitar-concert/
END:VEVENT
END:VCALENDAR